BEGIN:VCALENDAR
VERSION:2.0
PRODID:-//wp-events-plugin.com//7.2.3.1//EN
TZID:America/New_York
X-WR-TIMEZONE:America/New_York
BEGIN:VEVENT
UID:53@smskn.net
DTSTART;TZID=America/Halifax:20250708T090000
DTEND;TZID=America/Halifax:20250708T160000
DTSTAMP:20260420T032903Z
URL:
SUMMARY:Fee activity "Dark Art of the Skinny Stick" by Kayak Ways LLC
DESCRIPTION:Paddling\, Rolling\, Sculling\, discover the magic of the skinn
 y stick!\nExplore the foundation skills of the extensive Greenland rolling
  repertoire: layback and forward finishing.\nExperience the elegance and e
 ase of Greenland strokes: canted forward stroke\, bow &amp\; stern sweeps\
 , etc.\nLearn the balance brace\, sculling brace\, and chest scull.\nBuild
  and practice skills. In this 1 day workshop\, we will begin with a thorou
 gh breakdown of how the roll works on the land\, followed by in-water coac
 hing. We'll discuss the design features of the stick and how it functions 
 best\, and then we'll try it on the water with a strokes component.\nBegin
 ners to Advanced. Workshops are geared to all levels of rolling ability. B
 eginners will come away with an understanding of the foundation of rolling
 . Advanced rollers will have a deeper understanding of small details that 
 allow for a breakthrough on their rolling path. Mentors will be able to ad
 d to their tool box. Our small group size allows for personal coaching.\nT
 his course is typically $190 per day. Kayak Ways is offering 10% discount\
 , and SMSKN is subsidising 30%. Participants pay $114 directly thru Kayak 
 Ways website: https://kayakways.net/wp-admin/admin.php?wp_easycart_nonce=4
 789210a04&amp\;page=wp-easycart-products&amp\;orderby=title&amp\;order=ASC
 &amp\;filter_0=1&amp\;filter_1&amp\;filter_2=1&amp\;s&amp\;pagenum=1&amp\;
 perpage=25&amp\;product_id=98&amp\;ec_admin_form_action=edit\nAfter signin
 g up on the KW website\, then sign up on Meetup.
LOCATION:Southern Maine Community College\, 2 Fort Rd\, South Portland\, ME
 \, 04106\, United States
GEO:43.649956;-70.22864
X-APPLE-STRUCTURED-LOCATION;VALUE=URI;X-ADDRESS=2 Fort Rd\, South Portland\
 , ME\, 04106\, United States;X-APPLE-RADIUS=100;X-TITLE=Southern Maine Com
 munity College:geo:43.649956,-70.22864
END:VEVENT
BEGIN:VTIMEZONE
TZID:America/Halifax
X-LIC-LOCATION:America/Halifax
BEGIN:DAYLIGHT
DTSTART:20250309T030000
TZOFFSETFROM:-0400
TZOFFSETTO:-0300
TZNAME:ADT
END:DAYLIGHT
END:VTIMEZONE
END:VCALENDAR