BEGIN:VCALENDAR
VERSION:2.0
PRODID:-//wp-events-plugin.com//7.2.3.1//EN
TZID:America/New_York
X-WR-TIMEZONE:America/New_York
BEGIN:VEVENT
UID:147@smskn.net
DTSTART;TZID=America/Halifax:20260625T090000
DTEND;TZID=America/Halifax:20260625T160000
DTSTAMP:20260327T020406Z
URL:https://www.smskn.net/events/moving-water-skills-with-pinniped-kayak-p
 rofessional-training/
SUMMARY:Moving water skills with Pinniped Kayak\, Professional Training
DESCRIPTION:This is a Professional Training Session partially subsidised by
  SMSKN for members only. To join this session first sign up here\, and the
 n follow this link to pay for the course.\nhttps://www.pinnipedkayak.com/s
 ea-kayaking-classes-calendar/2015/8/23/rocks-ledges-bar-harbor-hm6cm-wc7ke
 -r6hgy-sdrpf-d6ew3-pke3j-awyye-p2ylt\nA day of instruction for paddlers co
 mfortable with maneuvering in calm water\, who are interested in expanding
  their skills in moving water. We will work on the fundamental maneuvers f
 or sea kayaking in current\, including eddy turns and ferrying\, and refin
 e and apply strokes such as rudders and sweeps to execute those maneuvers 
 with grace. This course is useful as an intro to currents\, or as a chance
  for those with previous currents training to improve finesse and understa
 nding in a moderate current environment. We’ll also have the opportunity
  to refine bracing and rescues in calm water\, as well as adapting those s
 kills to be useful in moving water.\n(Course will likely launch from Robin
 hood Marina in Georgetown. Parking/Launch fee is approximately $10 per kay
 aker)\nIn collaboration with the SMSKN board\, Pinniped is offering a 10% 
 discount to members and the SMSKN board offers additional 30% discounts fo
 r SMSKN members. For a total of 40% off for members. Full price is $190\, 
 SMSKN members pay $115.00. IF this course isn't full by July 1st it will b
 e open to anyone at full price. IF this course isn't full by June 1st it w
 ill be open to anyone at full price.\nCourse Staff: Nate Hanson\, founder 
 of Pinniped Kayak. British Canoeing Sea Kayak Coach\; ACA Level 5 Coastal 
 Kayak Instructor\, L4 Instructor Trainer\; ACA Level 4 Whitewater Kayak In
 structor\; seeker of both ease and excitement on bumpy water.
ATTACH;FMTTYPE=image/jpeg:https://www.smskn.net/wp-content/uploads/11831_i
 mage_600_518354071.jpeg
LOCATION:Robinhood Marine Center\, 340 Robinhood Road\, Georgetown\, ME\, 0
 4548\, United States
GEO:43.85294;-69.734215
X-APPLE-STRUCTURED-LOCATION;VALUE=URI;X-ADDRESS=340 Robinhood Road\, George
 town\, ME\, 04548\, United States;X-APPLE-RADIUS=100;X-TITLE=Robinhood Mar
 ine Center:geo:43.85294,-69.734215
END:VEVENT
BEGIN:VTIMEZONE
TZID:America/Halifax
X-LIC-LOCATION:America/Halifax
BEGIN:DAYLIGHT
DTSTART:20260308T030000
TZOFFSETFROM:-0400
TZOFFSETTO:-0300
TZNAME:ADT
END:DAYLIGHT
END:VTIMEZONE
END:VCALENDAR