BEGIN:VCALENDAR
VERSION:2.0
PRODID:-//wp-events-plugin.com//7.2.3.1//EN
TZID:America/New_York
X-WR-TIMEZONE:America/New_York
BEGIN:VEVENT
UID:148@smskn.net
DTSTART;TZID=America/Halifax:20260730T090000
DTEND;TZID=America/Halifax:20260730T160000
DTSTAMP:20260327T020407Z
URL:https://www.smskn.net/events/rough-water-skills-with-pinniped-kayak-pr
 ofessional-training/
SUMMARY:Rough Water skills with Pinniped Kayak\, Professional Training
DESCRIPTION:This is a Professional Training Session partially subsidised by
  SMSKN for members only. To join this session first sign up here\, and the
 n follow this link to pay for the course.\nhttps://www.pinnipedkayak.com/s
 ea-kayaking-classes-calendar/2015/8/23/rocks-ledges-bar-harbor-hm6cm-wc7ke
 -r6hgy-sdrpf-d6ew3-pke3j-awyye\nThat dynamic strip of real-estate where th
 e land and sea mix it up is full of opportunities for improving boat contr
 ol\, and having a good time. The cliffs\, caves\, slots\, and countless va
 riety of rock features surrounding Maine’s glacially-carved islands prov
 ide the perfect venues to refine these skills. As with all of Nate’s kay
 ak coaching\, our path to greater ease and success in challenging environm
 ents will be through a combination of understanding how to move in concert
  with the environment and refining our techniques to maintain efficiency a
 nd safety. We'll focus on learning how to use the ocean's wave energy to o
 ur advantage\, because paddling with the sea as your partner is always eas
 ier than going head to head!\nIn collaboration with the SMSKN board\, Pinn
 iped is offering a 10% discount to members and the SMSKN board offers addi
 tional 30% discounts for SMSKN members. For a total of 40% off for members
 . Full price is $190\, SMSKN members pay $115.00. IF this course isn't ful
 l by July 1st it will be open to anyone at full price.\nCourse Staff: Nate
  Hanson\, founder of Pinniped Kayak. British Canoeing Sea Kayak Coach\; AC
 A Level 5 Coastal Kayak Instructor\, L4 Instructor Trainer\; ACA Level 4 W
 hitewater Kayak Instructor\; seeker of both ease and excitement on bumpy w
 ater.
ATTACH;FMTTYPE=image/jpeg:https://www.smskn.net/wp-content/uploads/11831_i
 mage_600_518354071.jpeg
LOCATION:Reid State Park\, Reid State Park\, Georgetown\, ME\, 04548\, Unit
 ed States
GEO:43.775116;-69.732704
X-APPLE-STRUCTURED-LOCATION;VALUE=URI;X-ADDRESS=Reid State Park\, Georgetow
 n\, ME\, 04548\, United States;X-APPLE-RADIUS=100;X-TITLE=Reid State Park:
 geo:43.775116,-69.732704
END:VEVENT
BEGIN:VTIMEZONE
TZID:America/Halifax
X-LIC-LOCATION:America/Halifax
BEGIN:DAYLIGHT
DTSTART:20260308T030000
TZOFFSETFROM:-0400
TZOFFSETTO:-0300
TZNAME:ADT
END:DAYLIGHT
END:VTIMEZONE
END:VCALENDAR