BEGIN:VCALENDAR
VERSION:2.0
PRODID:-//wp-events-plugin.com//7.2.3.1//EN
TZID:America/New_York
X-WR-TIMEZONE:America/New_York
BEGIN:VEVENT
UID:163@smskn.net
DTSTART;TZID=America/Halifax:20260422T183000
DTEND;TZID=America/Halifax:20260422T203000
DTSTAMP:20260420T210405Z
URL:https://www.smskn.net/events/sunset-sheepscot-surf-session/
SUMMARY:Sunset Sheepscot Surf Session
DESCRIPTION:Earth Day Sunset Sheepscot Surf Session. Come surf and practice
  rolling in the rough water til we lose day light. Dry/wetsuits and helmet
 s required.\n9.5’ tidal volume. 42° and mostly cloudy. 4:22 high tide\,
  wave starts building 2-2:30 hours after the high tide.
ATTACH;FMTTYPE=image/jpeg:https://www.smskn.net/wp-content/uploads/13134_i
 mage_highres_533816495-scaled.jpeg
LOCATION:Sheepscot Reversing Falls\, 104 Sheepscot Rd\, Alna\, ME 04535\, A
 lna\, ME\, 04553\, United States
GEO:44.050373;-69.6103
X-APPLE-STRUCTURED-LOCATION;VALUE=URI;X-ADDRESS=104 Sheepscot Rd\, Alna\, M
 E 04535\, Alna\, ME\, 04553\, United States;X-APPLE-RADIUS=100;X-TITLE=She
 epscot Reversing Falls:geo:44.050373,-69.6103
END:VEVENT
BEGIN:VTIMEZONE
TZID:America/Halifax
X-LIC-LOCATION:America/Halifax
BEGIN:DAYLIGHT
DTSTART:20260308T030000
TZOFFSETFROM:-0400
TZOFFSETTO:-0300
TZNAME:ADT
END:DAYLIGHT
END:VTIMEZONE
END:VCALENDAR